BEGIN:VCALENDAR
VERSION:2.0
PRODID:-//Maison d’aide et d’Hébergement de Fermont - ECPv6.15.20//NONSGML v1.0//EN
CALSCALE:GREGORIAN
METHOD:PUBLISH
X-WR-CALNAME:Maison d’aide et d’Hébergement de Fermont
X-ORIGINAL-URL:https://mahf.ca
X-WR-CALDESC:Évènements pour Maison d’aide et d’Hébergement de Fermont
REFRESH-INTERVAL;VALUE=DURATION:PT1H
X-Robots-Tag:noindex
X-PUBLISHED-TTL:PT1H
BEGIN:VTIMEZONE
TZID:America/Toronto
BEGIN:DAYLIGHT
TZOFFSETFROM:-0500
TZOFFSETTO:-0400
TZNAME:EDT
DTSTART:20240310T070000
END:DAYLIGHT
BEGIN:STANDARD
TZOFFSETFROM:-0400
TZOFFSETTO:-0500
TZNAME:EST
DTSTART:20241103T060000
END:STANDARD
BEGIN:DAYLIGHT
TZOFFSETFROM:-0500
TZOFFSETTO:-0400
TZNAME:EDT
DTSTART:20250309T070000
END:DAYLIGHT
BEGIN:STANDARD
TZOFFSETFROM:-0400
TZOFFSETTO:-0500
TZNAME:EST
DTSTART:20251102T060000
END:STANDARD
BEGIN:DAYLIGHT
TZOFFSETFROM:-0500
TZOFFSETTO:-0400
TZNAME:EDT
DTSTART:20260308T070000
END:DAYLIGHT
BEGIN:STANDARD
TZOFFSETFROM:-0400
TZOFFSETTO:-0500
TZNAME:EST
DTSTART:20261101T060000
END:STANDARD
END:VTIMEZONE
BEGIN:VEVENT
DTSTART;TZID=America/Toronto:20251002T093000
DTEND;TZID=America/Toronto:20251002T110000
DTSTAMP:20260421T181037
CREATED:20250925T190045Z
LAST-MODIFIED:20250925T172011Z
UID:10000025-1759397400-1759402800@mahf.ca
SUMMARY:Hérisson habillé de feuilles
DESCRIPTION:venez habiller votre petit hérisson de jolies feuilles d’automne colorées!
URL:https://mahf.ca/event/herisson-habille-de-feuilles/
LOCATION:Maison d’aide et d’hébergement de Fermont\, 4 rue Holway\, Fermont\, QUEBEC\, G0G 1J0\, Canada
CATEGORIES:Activité enfant accompagné d'un adulte
END:VEVENT
BEGIN:VEVENT
DTSTART;TZID=America/Toronto:20251009T093000
DTEND;TZID=America/Toronto:20251009T110000
DTSTAMP:20260421T181037
CREATED:20250925T190011Z
LAST-MODIFIED:20250925T174139Z
UID:10000028-1760002200-1760007600@mahf.ca
SUMMARY:Arbre d’automne pétillant
DESCRIPTION:Avez vous déjà vu un arbre aux couleurs si pétillantes qu’elles produisent de la mousse? Viens en faire l’essai avec nous!
URL:https://mahf.ca/event/arbre-dautomne-petillant/
LOCATION:Maison d’aide et d’hébergement de Fermont\, 4 rue Holway\, Fermont\, QUEBEC\, G0G 1J0\, Canada
CATEGORIES:Activité enfant accompagné d'un adulte
END:VEVENT
BEGIN:VEVENT
DTSTART;TZID=America/Toronto:20251014T093000
DTEND;TZID=America/Toronto:20251014T110000
DTSTAMP:20260421T181037
CREATED:20250925T190017Z
LAST-MODIFIED:20250925T174442Z
UID:10000029-1760434200-1760439600@mahf.ca
SUMMARY:Fantôme lance pompons
DESCRIPTION:Un petit fantôme coquin qui lance de petits pompons!
URL:https://mahf.ca/event/fantome-lance-pompons/
LOCATION:Maison d’aide et d’hébergement de Fermont\, 4 rue Holway\, Fermont\, QUEBEC\, G0G 1J0\, Canada
CATEGORIES:Activité enfant accompagné d'un adulte
END:VEVENT
BEGIN:VEVENT
DTSTART;TZID=America/Toronto:20251023T093000
DTEND;TZID=America/Toronto:20251023T110000
DTSTAMP:20260421T181037
CREATED:20250925T190049Z
LAST-MODIFIED:20250925T181414Z
UID:10000035-1761211800-1761217200@mahf.ca
SUMMARY:Peinture à la main
DESCRIPTION:Avec ta petite main\, tu pourras créer de supers personnages d’Halloween!
URL:https://mahf.ca/event/peinture-a-la-main/
LOCATION:Maison d’aide et d’hébergement de Fermont\, 4 rue Holway\, Fermont\, QUEBEC\, G0G 1J0\, Canada
CATEGORIES:Activité enfant accompagné d'un adulte
END:VEVENT
BEGIN:VEVENT
DTSTART;TZID=America/Toronto:20251028T093000
DTEND;TZID=America/Toronto:20251028T110000
DTSTAMP:20260421T181037
CREATED:20250925T190051Z
LAST-MODIFIED:20250925T182044Z
UID:10000036-1761643800-1761649200@mahf.ca
SUMMARY:Bacs sensoriels dégueux
DESCRIPTION:Seras-tu assez courageux pour tester nos bacs sensoriels dégueux de l’Halloween?
URL:https://mahf.ca/event/bacs-sensoriels-degueux/
LOCATION:Maison d’aide et d’hébergement de Fermont\, 4 rue Holway\, Fermont\, QUEBEC\, G0G 1J0\, Canada
CATEGORIES:Activité enfant accompagné d'un adulte
END:VEVENT
END:VCALENDAR