BEGIN:VCALENDAR
VERSION:2.0
PRODID:-//Maison d’aide et d’Hébergement de Fermont - ECPv6.15.20//NONSGML v1.0//EN
CALSCALE:GREGORIAN
METHOD:PUBLISH
X-WR-CALNAME:Maison d’aide et d’Hébergement de Fermont
X-ORIGINAL-URL:https://mahf.ca
X-WR-CALDESC:Évènements pour Maison d’aide et d’Hébergement de Fermont
REFRESH-INTERVAL;VALUE=DURATION:PT1H
X-Robots-Tag:noindex
X-PUBLISHED-TTL:PT1H
BEGIN:VTIMEZONE
TZID:America/Toronto
BEGIN:DAYLIGHT
TZOFFSETFROM:-0500
TZOFFSETTO:-0400
TZNAME:EDT
DTSTART:20240310T070000
END:DAYLIGHT
BEGIN:STANDARD
TZOFFSETFROM:-0400
TZOFFSETTO:-0500
TZNAME:EST
DTSTART:20241103T060000
END:STANDARD
BEGIN:DAYLIGHT
TZOFFSETFROM:-0500
TZOFFSETTO:-0400
TZNAME:EDT
DTSTART:20250309T070000
END:DAYLIGHT
BEGIN:STANDARD
TZOFFSETFROM:-0400
TZOFFSETTO:-0500
TZNAME:EST
DTSTART:20251102T060000
END:STANDARD
BEGIN:DAYLIGHT
TZOFFSETFROM:-0500
TZOFFSETTO:-0400
TZNAME:EDT
DTSTART:20260308T070000
END:DAYLIGHT
BEGIN:STANDARD
TZOFFSETFROM:-0400
TZOFFSETTO:-0500
TZNAME:EST
DTSTART:20261101T060000
END:STANDARD
END:VTIMEZONE
BEGIN:VEVENT
DTSTART;TZID=America/Toronto:20251105T093000
DTEND;TZID=America/Toronto:20251105T113000
DTSTAMP:20260421T165857
CREATED:20251028T183438Z
LAST-MODIFIED:20251028T183438Z
UID:10000042-1762335000-1762342200@mahf.ca
SUMMARY:Art soufflé
DESCRIPTION:
URL:https://mahf.ca/event/art-souffle/
LOCATION:Maison d’aide et d’hébergement de Fermont\, 4 rue Holway\, Fermont\, QUEBEC\, G0G 1J0\, Canada
CATEGORIES:Activité enfant accompagné d'un adulte
END:VEVENT
BEGIN:VEVENT
DTSTART;TZID=America/Toronto:20251111T093000
DTEND;TZID=America/Toronto:20251111T113000
DTSTAMP:20260421T165857
CREATED:20251028T184433Z
LAST-MODIFIED:20251028T184433Z
UID:10000045-1762853400-1762860600@mahf.ca
SUMMARY:Méduse à perles
DESCRIPTION:
URL:https://mahf.ca/event/meduse-a-perles/
LOCATION:Maison d’aide et d’hébergement de Fermont\, 4 rue Holway\, Fermont\, QUEBEC\, G0G 1J0\, Canada
CATEGORIES:Activité enfant accompagné d'un adulte
END:VEVENT
BEGIN:VEVENT
DTSTART;TZID=America/Toronto:20251113T093000
DTEND;TZID=America/Toronto:20251113T113000
DTSTAMP:20260421T165857
CREATED:20251028T190010Z
LAST-MODIFIED:20251028T190954Z
UID:10000046-1763026200-1763033400@mahf.ca
SUMMARY:Bacs sensoriels d'automne
DESCRIPTION:
URL:https://mahf.ca/event/bacs-sensoriels-dautomne/
LOCATION:Maison d’aide et d’hébergement de Fermont\, 4 rue Holway\, Fermont\, QUEBEC\, G0G 1J0\, Canada
CATEGORIES:Activité enfant accompagné d'un adulte
END:VEVENT
BEGIN:VEVENT
DTSTART;TZID=America/Toronto:20251124T093000
DTEND;TZID=America/Toronto:20251124T113000
DTSTAMP:20260421T165857
CREATED:20251029T132248Z
LAST-MODIFIED:20251029T132248Z
UID:10000055-1763976600-1763983800@mahf.ca
SUMMARY:Feuilles marbrées
DESCRIPTION:
URL:https://mahf.ca/event/feuilles-marbrees/
LOCATION:Maison d’aide et d’hébergement de Fermont\, 4 rue Holway\, Fermont\, QUEBEC\, G0G 1J0\, Canada
CATEGORIES:Activité enfant accompagné d'un adulte
END:VEVENT
END:VCALENDAR