BEGIN:VCALENDAR
VERSION:2.0
PRODID:-//Maison d’aide et d’Hébergement de Fermont - ECPv6.15.20//NONSGML v1.0//EN
CALSCALE:GREGORIAN
METHOD:PUBLISH
X-WR-CALNAME:Maison d’aide et d’Hébergement de Fermont
X-ORIGINAL-URL:https://mahf.ca
X-WR-CALDESC:Évènements pour Maison d’aide et d’Hébergement de Fermont
REFRESH-INTERVAL;VALUE=DURATION:PT1H
X-Robots-Tag:noindex
X-PUBLISHED-TTL:PT1H
BEGIN:VTIMEZONE
TZID:America/Toronto
BEGIN:DAYLIGHT
TZOFFSETFROM:-0500
TZOFFSETTO:-0400
TZNAME:EDT
DTSTART:20240310T070000
END:DAYLIGHT
BEGIN:STANDARD
TZOFFSETFROM:-0400
TZOFFSETTO:-0500
TZNAME:EST
DTSTART:20241103T060000
END:STANDARD
BEGIN:DAYLIGHT
TZOFFSETFROM:-0500
TZOFFSETTO:-0400
TZNAME:EDT
DTSTART:20250309T070000
END:DAYLIGHT
BEGIN:STANDARD
TZOFFSETFROM:-0400
TZOFFSETTO:-0500
TZNAME:EST
DTSTART:20251102T060000
END:STANDARD
BEGIN:DAYLIGHT
TZOFFSETFROM:-0500
TZOFFSETTO:-0400
TZNAME:EDT
DTSTART:20260308T070000
END:DAYLIGHT
BEGIN:STANDARD
TZOFFSETFROM:-0400
TZOFFSETTO:-0500
TZNAME:EST
DTSTART:20261101T060000
END:STANDARD
END:VTIMEZONE
BEGIN:VEVENT
DTSTART;TZID=America/Toronto:20251209T093000
DTEND;TZID=America/Toronto:20251209T113000
DTSTAMP:20260421T154810
CREATED:20251126T154242Z
LAST-MODIFIED:20251203T135929Z
UID:10000067-1765272600-1765279800@mahf.ca
SUMMARY:Création de jumelles du Père Noël
DESCRIPTION:
URL:https://mahf.ca/event/creation-de-jumelles-du-pere-noel/
LOCATION:Maison d’aide et d’hébergement de Fermont\, 4 rue Holway\, Fermont\, QUEBEC\, G0G 1J0\, Canada
CATEGORIES:Activité enfant accompagné d'un adulte
END:VEVENT
BEGIN:VEVENT
DTSTART;TZID=America/Toronto:20251218T093000
DTEND;TZID=America/Toronto:20251218T113000
DTSTAMP:20260421T154810
CREATED:20251126T160214Z
LAST-MODIFIED:20251126T160214Z
UID:10000073-1766050200-1766057400@mahf.ca
SUMMARY:Bac sensoriel de fausse neige
DESCRIPTION:
URL:https://mahf.ca/event/bac-sensoriel-de-fausse-neige/
LOCATION:Maison d’aide et d’hébergement de Fermont\, 4 rue Holway\, Fermont\, QUEBEC\, G0G 1J0\, Canada
CATEGORIES:Activité enfant accompagné d'un adulte
END:VEVENT
BEGIN:VEVENT
DTSTART;TZID=America/Toronto:20251219T100000
DTEND;TZID=America/Toronto:20251219T110000
DTSTAMP:20260421T154810
CREATED:20251126T161751Z
LAST-MODIFIED:20251126T161751Z
UID:10000076-1766138400-1766142000@mahf.ca
SUMMARY:Mini-explo en pyjamas
DESCRIPTION:Aucune inscription requise. Venez-nous rejoindre avec vos plus beaux pyjamas de Noël
URL:https://mahf.ca/event/mini-explo-en-pyjamas/
LOCATION:Maison d’aide et d’hébergement de Fermont\, 4 rue Holway\, Fermont\, QUEBEC\, G0G 1J0\, Canada
CATEGORIES:Activité enfant accompagné d'un adulte
END:VEVENT
END:VCALENDAR