BEGIN:VCALENDAR
VERSION:2.0
PRODID:-//Maison d’aide et d’Hébergement de Fermont - ECPv6.15.20//NONSGML v1.0//EN
CALSCALE:GREGORIAN
METHOD:PUBLISH
X-WR-CALNAME:Maison d’aide et d’Hébergement de Fermont
X-ORIGINAL-URL:https://mahf.ca
X-WR-CALDESC:Évènements pour Maison d’aide et d’Hébergement de Fermont
REFRESH-INTERVAL;VALUE=DURATION:PT1H
X-Robots-Tag:noindex
X-PUBLISHED-TTL:PT1H
BEGIN:VTIMEZONE
TZID:America/Toronto
BEGIN:DAYLIGHT
TZOFFSETFROM:-0500
TZOFFSETTO:-0400
TZNAME:EDT
DTSTART:20250309T070000
END:DAYLIGHT
BEGIN:STANDARD
TZOFFSETFROM:-0400
TZOFFSETTO:-0500
TZNAME:EST
DTSTART:20251102T060000
END:STANDARD
BEGIN:DAYLIGHT
TZOFFSETFROM:-0500
TZOFFSETTO:-0400
TZNAME:EDT
DTSTART:20260308T070000
END:DAYLIGHT
BEGIN:STANDARD
TZOFFSETFROM:-0400
TZOFFSETTO:-0500
TZNAME:EST
DTSTART:20261101T060000
END:STANDARD
BEGIN:DAYLIGHT
TZOFFSETFROM:-0500
TZOFFSETTO:-0400
TZNAME:EDT
DTSTART:20270314T070000
END:DAYLIGHT
BEGIN:STANDARD
TZOFFSETFROM:-0400
TZOFFSETTO:-0500
TZNAME:EST
DTSTART:20271107T060000
END:STANDARD
END:VTIMEZONE
BEGIN:VEVENT
DTSTART;TZID=America/Toronto:20260203T093000
DTEND;TZID=America/Toronto:20260203T110000
DTSTAMP:20260421T150151
CREATED:20260128T201917Z
LAST-MODIFIED:20260128T201917Z
UID:10000104-1770111000-1770116400@mahf.ca
SUMMARY:Monstre coeur de laine
DESCRIPTION:
URL:https://mahf.ca/event/monstre-coeur-de-laine/
LOCATION:Maison d’aide et d’hébergement de Fermont\, 4 rue Holway\, Fermont\, QUEBEC\, G0G 1J0\, Canada
CATEGORIES:Activité enfant accompagné d'un adulte
END:VEVENT
END:VCALENDAR