BEGIN:VCALENDAR
VERSION:2.0
PRODID:-//Maison d’aide et d’Hébergement de Fermont - ECPv6.15.20//NONSGML v1.0//EN
CALSCALE:GREGORIAN
METHOD:PUBLISH
X-WR-CALNAME:Maison d’aide et d’Hébergement de Fermont
X-ORIGINAL-URL:https://mahf.ca
X-WR-CALDESC:Évènements pour Maison d’aide et d’Hébergement de Fermont
REFRESH-INTERVAL;VALUE=DURATION:PT1H
X-Robots-Tag:noindex
X-PUBLISHED-TTL:PT1H
BEGIN:VTIMEZONE
TZID:America/Tortola
BEGIN:STANDARD
TZOFFSETFROM:-0400
TZOFFSETTO:-0400
TZNAME:AST
DTSTART:20240101T000000
END:STANDARD
END:VTIMEZONE
BEGIN:VEVENT
DTSTART;TZID=America/Tortola:20250314T173000
DTEND;TZID=America/Tortola:20250314T173000
DTSTAMP:20260421T125403
CREATED:20250206T182400Z
LAST-MODIFIED:20250218T181353Z
UID:10000007-1741973400-1741973400@mahf.ca
SUMMARY:Gala hommage aux Fermontoises 2025
DESCRIPTION:En l’occasion de la journée internationale des droits des femmes\, venez célébrer avec nous notre annuel Gala Hommage aux Fermontoises le vendredi 14 mars prochain à la salle Aurora!
URL:https://mahf.ca/event/gala-hommage-aux-fermontoises/
LOCATION:Salle Aurora\, 50\, rue le carrefour\, Fermont\, Québec\, G0G1J0\, Canada
END:VEVENT
END:VCALENDAR