BEGIN:VCALENDAR
VERSION:2.0
PRODID:-//Maison d’aide et d’Hébergement de Fermont - ECPv6.15.20//NONSGML v1.0//EN
CALSCALE:GREGORIAN
METHOD:PUBLISH
X-WR-CALNAME:Maison d’aide et d’Hébergement de Fermont
X-ORIGINAL-URL:https://mahf.ca
X-WR-CALDESC:Évènements pour Maison d’aide et d’Hébergement de Fermont
REFRESH-INTERVAL;VALUE=DURATION:PT1H
X-Robots-Tag:noindex
X-PUBLISHED-TTL:PT1H
BEGIN:VTIMEZONE
TZID:America/Toronto
BEGIN:DAYLIGHT
TZOFFSETFROM:-0500
TZOFFSETTO:-0400
TZNAME:EDT
DTSTART:20250309T070000
END:DAYLIGHT
BEGIN:STANDARD
TZOFFSETFROM:-0400
TZOFFSETTO:-0500
TZNAME:EST
DTSTART:20251102T060000
END:STANDARD
BEGIN:DAYLIGHT
TZOFFSETFROM:-0500
TZOFFSETTO:-0400
TZNAME:EDT
DTSTART:20260308T070000
END:DAYLIGHT
BEGIN:STANDARD
TZOFFSETFROM:-0400
TZOFFSETTO:-0500
TZNAME:EST
DTSTART:20261101T060000
END:STANDARD
BEGIN:DAYLIGHT
TZOFFSETFROM:-0500
TZOFFSETTO:-0400
TZNAME:EDT
DTSTART:20270314T070000
END:DAYLIGHT
BEGIN:STANDARD
TZOFFSETFROM:-0400
TZOFFSETTO:-0500
TZNAME:EST
DTSTART:20271107T060000
END:STANDARD
END:VTIMEZONE
BEGIN:VEVENT
DTSTART;TZID=America/Toronto:20260302T090000
DTEND;TZID=America/Toronto:20260306T170000
DTSTAMP:20260421T091322
CREATED:20260302T135210Z
LAST-MODIFIED:20260302T135210Z
UID:10000136-1772442000-1772816400@mahf.ca
SUMMARY:Sac à collations
DESCRIPTION:
URL:https://mahf.ca/event/sac-a-collations-8/
LOCATION:Maison d’aide et d’hébergement de Fermont\, 4 rue Holway\, Fermont\, QUEBEC\, G0G 1J0\, Canada
END:VEVENT
BEGIN:VEVENT
DTSTART;TZID=America/Toronto:20260226T093000
DTEND;TZID=America/Toronto:20260226T110000
DTSTAMP:20260421T091322
CREATED:20260128T205129Z
LAST-MODIFIED:20260129T145449Z
UID:10000119-1772098200-1772103600@mahf.ca
SUMMARY:Chenille sur feuille
DESCRIPTION:
URL:https://mahf.ca/event/chenille-sur-feuille/
LOCATION:Maison d’aide et d’hébergement de Fermont\, 4 rue Holway\, Fermont\, QUEBEC\, G0G 1J0\, Canada
CATEGORIES:Activité enfant accompagné d'un adulte
END:VEVENT
BEGIN:VEVENT
DTSTART;TZID=America/Toronto:20260226T000000
DTEND;TZID=America/Toronto:20260226T130000
DTSTAMP:20260421T091322
CREATED:20260220T144314Z
LAST-MODIFIED:20260226T125547Z
UID:10000122-1772064000-1772110800@mahf.ca
SUMMARY:Les Quilles
DESCRIPTION:
URL:https://mahf.ca/event/les-quilles/
LOCATION:Maison d’aide et d’hébergement de Fermont\, 4 rue Holway\, Fermont\, QUEBEC\, G0G 1J0\, Canada
CATEGORIES:Activité pour tous
END:VEVENT
BEGIN:VEVENT
DTSTART;TZID=America/Toronto:20260225T093000
DTEND;TZID=America/Toronto:20260225T110000
DTSTAMP:20260421T091322
CREATED:20260128T204955Z
LAST-MODIFIED:20260128T204955Z
UID:10000118-1772011800-1772017200@mahf.ca
SUMMARY:Exfoliant au sucre à la fraise
DESCRIPTION:
URL:https://mahf.ca/event/exfoliant-au-sucre-a-la-fraise/
LOCATION:Maison d’aide et d’hébergement de Fermont\, 4 rue Holway\, Fermont\, QUEBEC\, G0G 1J0\, Canada
CATEGORIES:Activité pour adulte seulement
END:VEVENT
BEGIN:VEVENT
DTSTART;TZID=America/Toronto:20260224T093000
DTEND;TZID=America/Toronto:20260224T110000
DTSTAMP:20260421T091322
CREATED:20260128T204720Z
LAST-MODIFIED:20260128T204720Z
UID:10000117-1771925400-1771930800@mahf.ca
SUMMARY:Porc effiloché à la mijoteuse
DESCRIPTION:
URL:https://mahf.ca/event/porc-effiloche-a-la-mijoteuse/
LOCATION:Maison d’aide et d’hébergement de Fermont\, 4 rue Holway\, Fermont\, QUEBEC\, G0G 1J0\, Canada
CATEGORIES:Activité pour adulte seulement
END:VEVENT
BEGIN:VEVENT
DTSTART;TZID=America/Toronto:20260223T093000
DTEND;TZID=America/Toronto:20260223T110000
DTSTAMP:20260421T091322
CREATED:20260128T204452Z
LAST-MODIFIED:20260129T145610Z
UID:10000116-1771839000-1771844400@mahf.ca
SUMMARY:Pâte à modeler pour le bain
DESCRIPTION:
URL:https://mahf.ca/event/pate-a-modeler-pour-le-bain/
LOCATION:Maison d’aide et d’hébergement de Fermont\, 4 rue Holway\, Fermont\, QUEBEC\, G0G 1J0\, Canada
CATEGORIES:Activité enfant accompagné d'un adulte
END:VEVENT
BEGIN:VEVENT
DTSTART;TZID=America/Toronto:20260223T080000
DTEND;TZID=America/Toronto:20260226T170000
DTSTAMP:20260421T091322
CREATED:20260223T142700Z
LAST-MODIFIED:20260223T142700Z
UID:10000123-1771833600-1772125200@mahf.ca
SUMMARY:Sac à collations
DESCRIPTION:
URL:https://mahf.ca/event/sac-a-collations-7/
LOCATION:Maison d’aide et d’hébergement de Fermont\, 4 rue Holway\, Fermont\, QUEBEC\, G0G 1J0\, Canada
END:VEVENT
BEGIN:VEVENT
DTSTART;TZID=America/Toronto:20260219T093000
DTEND;TZID=America/Toronto:20260219T110000
DTSTAMP:20260421T091322
CREATED:20260128T204308Z
LAST-MODIFIED:20260128T204308Z
UID:10000115-1771493400-1771498800@mahf.ca
SUMMARY:Pâtes style grecque
DESCRIPTION:
URL:https://mahf.ca/event/pates-style-grecque/
LOCATION:Maison d’aide et d’hébergement de Fermont\, 4 rue Holway\, Fermont\, QUEBEC\, G0G 1J0\, Canada
CATEGORIES:Activité pour adulte seulement
END:VEVENT
BEGIN:VEVENT
DTSTART;TZID=America/Toronto:20260218T093000
DTEND;TZID=America/Toronto:20260218T110000
DTSTAMP:20260421T091322
CREATED:20260128T204018Z
LAST-MODIFIED:20260128T204018Z
UID:10000114-1771407000-1771412400@mahf.ca
SUMMARY:Lotion corporelle en barre
DESCRIPTION:
URL:https://mahf.ca/event/lotion-corporelle-en-barre/
LOCATION:Maison d’aide et d’hébergement de Fermont\, 4 rue Holway\, Fermont\, QUEBEC\, G0G 1J0\, Canada
CATEGORIES:Activité pour adulte seulement
END:VEVENT
BEGIN:VEVENT
DTSTART;TZID=America/Toronto:20260217T093000
DTEND;TZID=America/Toronto:20260217T110000
DTSTAMP:20260421T091322
CREATED:20260128T203721Z
LAST-MODIFIED:20260129T145712Z
UID:10000113-1771320600-1771326000@mahf.ca
SUMMARY:Slime
DESCRIPTION:
URL:https://mahf.ca/event/slime/
LOCATION:Maison d’aide et d’hébergement de Fermont\, 4 rue Holway\, Fermont\, QUEBEC\, G0G 1J0\, Canada
CATEGORIES:Activité enfant accompagné d'un adulte
END:VEVENT
BEGIN:VEVENT
DTSTART;TZID=America/Toronto:20260216T093000
DTEND;TZID=America/Toronto:20260216T110000
DTSTAMP:20260421T091322
CREATED:20260128T203440Z
LAST-MODIFIED:20260128T203440Z
UID:10000112-1771234200-1771239600@mahf.ca
SUMMARY:Peinture de bain
DESCRIPTION:
URL:https://mahf.ca/event/peinture-de-bain/
LOCATION:Maison d’aide et d’hébergement de Fermont\, 4 rue Holway\, Fermont\, QUEBEC\, G0G 1J0\, Canada
CATEGORIES:Activité pour tous
END:VEVENT
BEGIN:VEVENT
DTSTART;TZID=America/Toronto:20260216T080000
DTEND;TZID=America/Toronto:20260216T170000
DTSTAMP:20260421T091322
CREATED:20260216T142228Z
LAST-MODIFIED:20260216T142228Z
UID:10000121-1771228800-1771261200@mahf.ca
SUMMARY:Sac à collations
DESCRIPTION:
URL:https://mahf.ca/event/sac-a-collations-6/
LOCATION:Maison d’aide et d’hébergement de Fermont\, 4 rue Holway\, Fermont\, QUEBEC\, G0G 1J0\, Canada
END:VEVENT
BEGIN:VEVENT
DTSTART;TZID=America/Toronto:20260212T093000
DTEND;TZID=America/Toronto:20260212T110000
DTSTAMP:20260421T091322
CREATED:20260128T203307Z
LAST-MODIFIED:20260128T203307Z
UID:10000111-1770888600-1770894000@mahf.ca
SUMMARY:Cupcake St-Valentin
DESCRIPTION:
URL:https://mahf.ca/event/cupcake-st-valentin/
LOCATION:Maison d’aide et d’hébergement de Fermont\, 4 rue Holway\, Fermont\, QUEBEC\, G0G 1J0\, Canada
CATEGORIES:Activité pour tous
END:VEVENT
BEGIN:VEVENT
DTSTART;TZID=America/Toronto:20260211T190000
DTEND;TZID=America/Toronto:20260211T200000
DTSTAMP:20260421T091322
CREATED:20260128T203110Z
LAST-MODIFIED:20260128T203110Z
UID:10000110-1770836400-1770840000@mahf.ca
SUMMARY:Yoga
DESCRIPTION:Pour l’occasion\, le yoga aura lieu à la salle Aurora
URL:https://mahf.ca/event/yoga-6/
LOCATION:Maison d’aide et d’hébergement de Fermont\, 4 rue Holway\, Fermont\, QUEBEC\, G0G 1J0\, Canada
CATEGORIES:Activité pour adulte seulement
END:VEVENT
BEGIN:VEVENT
DTSTART;TZID=America/Toronto:20260211T093000
DTEND;TZID=America/Toronto:20260211T110000
DTSTAMP:20260421T091322
CREATED:20260128T202917Z
LAST-MODIFIED:20260128T202917Z
UID:10000109-1770802200-1770807600@mahf.ca
SUMMARY:Macramé de St-Valentin
DESCRIPTION:
URL:https://mahf.ca/event/macrame-de-st-valentin/
LOCATION:Maison d’aide et d’hébergement de Fermont\, 4 rue Holway\, Fermont\, QUEBEC\, G0G 1J0\, Canada
CATEGORIES:Activité pour adulte seulement
END:VEVENT
BEGIN:VEVENT
DTSTART;TZID=America/Toronto:20260210T093000
DTEND;TZID=America/Toronto:20260210T110000
DTSTAMP:20260421T091322
CREATED:20260128T202618Z
LAST-MODIFIED:20260128T202618Z
UID:10000108-1770715800-1770721200@mahf.ca
SUMMARY:Guirlande de St-Valentin
DESCRIPTION:
URL:https://mahf.ca/event/guirlande-de-st-valentin/
LOCATION:Maison d’aide et d’hébergement de Fermont\, 4 rue Holway\, Fermont\, QUEBEC\, G0G 1J0\, Canada
CATEGORIES:Activité pour tous
END:VEVENT
BEGIN:VEVENT
DTSTART;TZID=America/Toronto:20260209T093000
DTEND;TZID=America/Toronto:20260209T110000
DTSTAMP:20260421T091322
CREATED:20260128T202435Z
LAST-MODIFIED:20260128T202435Z
UID:10000107-1770629400-1770634800@mahf.ca
SUMMARY:Création de chenille
DESCRIPTION:
URL:https://mahf.ca/event/creation-de-chenille/
LOCATION:Maison d’aide et d’hébergement de Fermont\, 4 rue Holway\, Fermont\, QUEBEC\, G0G 1J0\, Canada
CATEGORIES:Activité pour tous
END:VEVENT
BEGIN:VEVENT
DTSTART;TZID=America/Toronto:20260209T090000
DTEND;TZID=America/Toronto:20260211T170000
DTSTAMP:20260421T091322
CREATED:20260209T142249Z
LAST-MODIFIED:20260209T142519Z
UID:10000120-1770627600-1770829200@mahf.ca
SUMMARY:Sac à collations
DESCRIPTION:
URL:https://mahf.ca/event/sac-a-collations-5/
LOCATION:Maison d’aide et d’hébergement de Fermont\, 4 rue Holway\, Fermont\, QUEBEC\, G0G 1J0\, Canada
END:VEVENT
BEGIN:VEVENT
DTSTART;TZID=America/Toronto:20260205T093000
DTEND;TZID=America/Toronto:20260205T110000
DTSTAMP:20260421T091322
CREATED:20260128T202238Z
LAST-MODIFIED:20260128T202238Z
UID:10000106-1770283800-1770289200@mahf.ca
SUMMARY:Décoration d'aimants
DESCRIPTION:
URL:https://mahf.ca/event/decoration-daimants/
LOCATION:Maison d’aide et d’hébergement de Fermont\, 4 rue Holway\, Fermont\, QUEBEC\, G0G 1J0\, Canada
CATEGORIES:Activité pour tous
END:VEVENT
BEGIN:VEVENT
DTSTART;TZID=America/Toronto:20260204T093000
DTEND;TZID=America/Toronto:20260204T110000
DTSTAMP:20260421T091322
CREATED:20260128T202106Z
LAST-MODIFIED:20260128T202106Z
UID:10000105-1770197400-1770202800@mahf.ca
SUMMARY:Toile créative St-Valentin
DESCRIPTION:
URL:https://mahf.ca/event/toile-creative-st-valentin/
LOCATION:Maison d’aide et d’hébergement de Fermont\, 4 rue Holway\, Fermont\, QUEBEC\, G0G 1J0\, Canada
CATEGORIES:Activité pour tous
END:VEVENT
BEGIN:VEVENT
DTSTART;TZID=America/Toronto:20260203T093000
DTEND;TZID=America/Toronto:20260203T110000
DTSTAMP:20260421T091322
CREATED:20260128T201917Z
LAST-MODIFIED:20260128T201917Z
UID:10000104-1770111000-1770116400@mahf.ca
SUMMARY:Monstre coeur de laine
DESCRIPTION:
URL:https://mahf.ca/event/monstre-coeur-de-laine/
LOCATION:Maison d’aide et d’hébergement de Fermont\, 4 rue Holway\, Fermont\, QUEBEC\, G0G 1J0\, Canada
CATEGORIES:Activité enfant accompagné d'un adulte
END:VEVENT
BEGIN:VEVENT
DTSTART;TZID=America/Toronto:20260202T093000
DTEND;TZID=America/Toronto:20260202T110000
DTSTAMP:20260421T091322
CREATED:20260128T201552Z
LAST-MODIFIED:20260128T201552Z
UID:10000103-1770024600-1770030000@mahf.ca
SUMMARY:Crayons recyclés
DESCRIPTION:
URL:https://mahf.ca/event/crayons-recycles/
LOCATION:Maison d’aide et d’hébergement de Fermont\, 4 rue Holway\, Fermont\, QUEBEC\, G0G 1J0\, Canada
CATEGORIES:Activité pour tous
END:VEVENT
BEGIN:VEVENT
DTSTART;TZID=America/Toronto:20260202T090000
DTEND;TZID=America/Toronto:20260204T153000
DTSTAMP:20260421T091322
CREATED:20260128T200750Z
LAST-MODIFIED:20260128T200750Z
UID:10000102-1770022800-1770219000@mahf.ca
SUMMARY:Sac de collations
DESCRIPTION:
URL:https://mahf.ca/event/sac-de-collations-4/
LOCATION:Maison d’aide et d’hébergement de Fermont\, 4 rue Holway\, Fermont\, QUEBEC\, G0G 1J0\, Canada
END:VEVENT
BEGIN:VEVENT
DTSTART;TZID=America/Toronto:20260129T093000
DTEND;TZID=America/Toronto:20260129T113000
DTSTAMP:20260421T091322
CREATED:20251216T195324Z
LAST-MODIFIED:20251216T195620Z
UID:10000096-1769679000-1769686200@mahf.ca
SUMMARY:Gaufres salées
DESCRIPTION:
URL:https://mahf.ca/event/gaufres-salees/
LOCATION:Maison d’aide et d’hébergement de Fermont\, 4 rue Holway\, Fermont\, QUEBEC\, G0G 1J0\, Canada
CATEGORIES:Activité pour adulte seulement
END:VEVENT
BEGIN:VEVENT
DTSTART;TZID=America/Toronto:20260128T093000
DTEND;TZID=America/Toronto:20260128T113000
DTSTAMP:20260421T091322
CREATED:20251216T195106Z
LAST-MODIFIED:20251216T195453Z
UID:10000095-1769592600-1769599800@mahf.ca
SUMMARY:Baume à lèvres au Kool-Aid
DESCRIPTION:
URL:https://mahf.ca/event/baume-a-levres-au-kool-aid/
LOCATION:Maison d’aide et d’hébergement de Fermont\, 4 rue Holway\, Fermont\, QUEBEC\, G0G 1J0\, Canada
CATEGORIES:Activité pour tous
END:VEVENT
BEGIN:VEVENT
DTSTART;TZID=America/Toronto:20260127T190000
DTEND;TZID=America/Toronto:20260127T200000
DTSTAMP:20260421T091322
CREATED:20251216T194832Z
LAST-MODIFIED:20251216T194832Z
UID:10000094-1769540400-1769544000@mahf.ca
SUMMARY:Yoga
DESCRIPTION:
URL:https://mahf.ca/event/yoga-5/
LOCATION:Maison d’aide et d’hébergement de Fermont\, 4 rue Holway\, Fermont\, QUEBEC\, G0G 1J0\, Canada
CATEGORIES:Activité pour adulte seulement
END:VEVENT
BEGIN:VEVENT
DTSTART;TZID=America/Toronto:20260126T093000
DTEND;TZID=America/Toronto:20260126T113000
DTSTAMP:20260421T091322
CREATED:20251216T194533Z
LAST-MODIFIED:20251216T194533Z
UID:10000093-1769419800-1769427000@mahf.ca
SUMMARY:Tic-tac-toe à emporter
DESCRIPTION:
URL:https://mahf.ca/event/tic-tac-toe-a-emporter/
LOCATION:Maison d’aide et d’hébergement de Fermont\, 4 rue Holway\, Fermont\, QUEBEC\, G0G 1J0\, Canada
CATEGORIES:Activité pour tous
END:VEVENT
BEGIN:VEVENT
DTSTART;TZID=America/Toronto:20260126T080000
DTEND;TZID=America/Toronto:20260129T170000
DTSTAMP:20260421T091322
CREATED:20260123T181406Z
LAST-MODIFIED:20260126T140527Z
UID:10000101-1769414400-1769706000@mahf.ca
SUMMARY:Sac de collations
DESCRIPTION:
URL:https://mahf.ca/event/sac-de-collations-3/
LOCATION:Maison d’aide et d’hébergement de Fermont\, 4 rue Holway\, Fermont\, QUEBEC\, G0G 1J0\, Canada
END:VEVENT
BEGIN:VEVENT
DTSTART;TZID=America/Toronto:20260122T093000
DTEND;TZID=America/Toronto:20260122T113000
DTSTAMP:20260421T091322
CREATED:20251216T194223Z
LAST-MODIFIED:20251216T195534Z
UID:10000092-1769074200-1769081400@mahf.ca
SUMMARY:Sous-verres en résine
DESCRIPTION:
URL:https://mahf.ca/event/sous-verres-en-resine/
LOCATION:Maison d’aide et d’hébergement de Fermont\, 4 rue Holway\, Fermont\, QUEBEC\, G0G 1J0\, Canada
CATEGORIES:Activité pour adulte seulement
END:VEVENT
BEGIN:VEVENT
DTSTART;TZID=America/Toronto:20260120T190000
DTEND;TZID=America/Toronto:20260120T200000
DTSTAMP:20260421T091322
CREATED:20251216T194034Z
LAST-MODIFIED:20251216T194034Z
UID:10000091-1768935600-1768939200@mahf.ca
SUMMARY:Yoga
DESCRIPTION:
URL:https://mahf.ca/event/yoga-4/
LOCATION:Maison d’aide et d’hébergement de Fermont\, 4 rue Holway\, Fermont\, QUEBEC\, G0G 1J0\, Canada
CATEGORIES:Activité pour adulte seulement
END:VEVENT
END:VCALENDAR