BEGIN:VCALENDAR
VERSION:2.0
PRODID:-//Maison d’aide et d’Hébergement de Fermont - ECPv6.15.20//NONSGML v1.0//EN
CALSCALE:GREGORIAN
METHOD:PUBLISH
X-WR-CALNAME:Maison d’aide et d’Hébergement de Fermont
X-ORIGINAL-URL:https://mahf.ca
X-WR-CALDESC:Évènements pour Maison d’aide et d’Hébergement de Fermont
REFRESH-INTERVAL;VALUE=DURATION:PT1H
X-Robots-Tag:noindex
X-PUBLISHED-TTL:PT1H
BEGIN:VTIMEZONE
TZID:America/Toronto
BEGIN:DAYLIGHT
TZOFFSETFROM:-0500
TZOFFSETTO:-0400
TZNAME:EDT
DTSTART:20240310T070000
END:DAYLIGHT
BEGIN:STANDARD
TZOFFSETFROM:-0400
TZOFFSETTO:-0500
TZNAME:EST
DTSTART:20241103T060000
END:STANDARD
BEGIN:DAYLIGHT
TZOFFSETFROM:-0500
TZOFFSETTO:-0400
TZNAME:EDT
DTSTART:20250309T070000
END:DAYLIGHT
BEGIN:STANDARD
TZOFFSETFROM:-0400
TZOFFSETTO:-0500
TZNAME:EST
DTSTART:20251102T060000
END:STANDARD
BEGIN:DAYLIGHT
TZOFFSETFROM:-0500
TZOFFSETTO:-0400
TZNAME:EDT
DTSTART:20260308T070000
END:DAYLIGHT
BEGIN:STANDARD
TZOFFSETFROM:-0400
TZOFFSETTO:-0500
TZNAME:EST
DTSTART:20261101T060000
END:STANDARD
BEGIN:DAYLIGHT
TZOFFSETFROM:-0500
TZOFFSETTO:-0400
TZNAME:EDT
DTSTART:20270314T070000
END:DAYLIGHT
BEGIN:STANDARD
TZOFFSETFROM:-0400
TZOFFSETTO:-0500
TZNAME:EST
DTSTART:20271107T060000
END:STANDARD
END:VTIMEZONE
BEGIN:VEVENT
DTSTART;TZID=America/Toronto:20260129T093000
DTEND;TZID=America/Toronto:20260129T113000
DTSTAMP:20260421T113700
CREATED:20251216T195324Z
LAST-MODIFIED:20251216T195620Z
UID:10000096-1769679000-1769686200@mahf.ca
SUMMARY:Gaufres salées
DESCRIPTION:
URL:https://mahf.ca/event/gaufres-salees/
LOCATION:Maison d’aide et d’hébergement de Fermont\, 4 rue Holway\, Fermont\, QUEBEC\, G0G 1J0\, Canada
CATEGORIES:Activité pour adulte seulement
END:VEVENT
BEGIN:VEVENT
DTSTART;TZID=America/Toronto:20260128T093000
DTEND;TZID=America/Toronto:20260128T113000
DTSTAMP:20260421T113700
CREATED:20251216T195106Z
LAST-MODIFIED:20251216T195453Z
UID:10000095-1769592600-1769599800@mahf.ca
SUMMARY:Baume à lèvres au Kool-Aid
DESCRIPTION:
URL:https://mahf.ca/event/baume-a-levres-au-kool-aid/
LOCATION:Maison d’aide et d’hébergement de Fermont\, 4 rue Holway\, Fermont\, QUEBEC\, G0G 1J0\, Canada
CATEGORIES:Activité pour tous
END:VEVENT
BEGIN:VEVENT
DTSTART;TZID=America/Toronto:20260127T190000
DTEND;TZID=America/Toronto:20260127T200000
DTSTAMP:20260421T113700
CREATED:20251216T194832Z
LAST-MODIFIED:20251216T194832Z
UID:10000094-1769540400-1769544000@mahf.ca
SUMMARY:Yoga
DESCRIPTION:
URL:https://mahf.ca/event/yoga-5/
LOCATION:Maison d’aide et d’hébergement de Fermont\, 4 rue Holway\, Fermont\, QUEBEC\, G0G 1J0\, Canada
CATEGORIES:Activité pour adulte seulement
END:VEVENT
BEGIN:VEVENT
DTSTART;TZID=America/Toronto:20260126T093000
DTEND;TZID=America/Toronto:20260126T113000
DTSTAMP:20260421T113700
CREATED:20251216T194533Z
LAST-MODIFIED:20251216T194533Z
UID:10000093-1769419800-1769427000@mahf.ca
SUMMARY:Tic-tac-toe à emporter
DESCRIPTION:
URL:https://mahf.ca/event/tic-tac-toe-a-emporter/
LOCATION:Maison d’aide et d’hébergement de Fermont\, 4 rue Holway\, Fermont\, QUEBEC\, G0G 1J0\, Canada
CATEGORIES:Activité pour tous
END:VEVENT
BEGIN:VEVENT
DTSTART;TZID=America/Toronto:20260126T080000
DTEND;TZID=America/Toronto:20260129T170000
DTSTAMP:20260421T113700
CREATED:20260123T181406Z
LAST-MODIFIED:20260126T140527Z
UID:10000101-1769414400-1769706000@mahf.ca
SUMMARY:Sac de collations
DESCRIPTION:
URL:https://mahf.ca/event/sac-de-collations-3/
LOCATION:Maison d’aide et d’hébergement de Fermont\, 4 rue Holway\, Fermont\, QUEBEC\, G0G 1J0\, Canada
END:VEVENT
BEGIN:VEVENT
DTSTART;TZID=America/Toronto:20260122T093000
DTEND;TZID=America/Toronto:20260122T113000
DTSTAMP:20260421T113700
CREATED:20251216T194223Z
LAST-MODIFIED:20251216T195534Z
UID:10000092-1769074200-1769081400@mahf.ca
SUMMARY:Sous-verres en résine
DESCRIPTION:
URL:https://mahf.ca/event/sous-verres-en-resine/
LOCATION:Maison d’aide et d’hébergement de Fermont\, 4 rue Holway\, Fermont\, QUEBEC\, G0G 1J0\, Canada
CATEGORIES:Activité pour adulte seulement
END:VEVENT
BEGIN:VEVENT
DTSTART;TZID=America/Toronto:20260120T190000
DTEND;TZID=America/Toronto:20260120T200000
DTSTAMP:20260421T113700
CREATED:20251216T194034Z
LAST-MODIFIED:20251216T194034Z
UID:10000091-1768935600-1768939200@mahf.ca
SUMMARY:Yoga
DESCRIPTION:
URL:https://mahf.ca/event/yoga-4/
LOCATION:Maison d’aide et d’hébergement de Fermont\, 4 rue Holway\, Fermont\, QUEBEC\, G0G 1J0\, Canada
CATEGORIES:Activité pour adulte seulement
END:VEVENT
BEGIN:VEVENT
DTSTART;TZID=America/Toronto:20260120T080000
DTEND;TZID=America/Toronto:20260120T170000
DTSTAMP:20260421T113700
CREATED:20260120T191122Z
LAST-MODIFIED:20260120T191252Z
UID:10000100-1768896000-1768928400@mahf.ca
SUMMARY:Sac à collations
DESCRIPTION:
URL:https://mahf.ca/event/sac-a-collations-4/
LOCATION:Maison d’aide et d’hébergement de Fermont\, 4 rue Holway\, Fermont\, QUEBEC\, G0G 1J0\, Canada
END:VEVENT
BEGIN:VEVENT
DTSTART;TZID=America/Toronto:20260119T093000
DTEND;TZID=America/Toronto:20260119T113000
DTSTAMP:20260421T113700
CREATED:20251216T193407Z
LAST-MODIFIED:20251216T193407Z
UID:10000090-1768815000-1768822200@mahf.ca
SUMMARY:Bas-homme de neige
DESCRIPTION:
URL:https://mahf.ca/event/bas-homme-de-neige/
LOCATION:Maison d’aide et d’hébergement de Fermont\, 4 rue Holway\, Fermont\, QUEBEC\, G0G 1J0\, Canada
CATEGORIES:Activité enfant accompagné d'un adulte
END:VEVENT
BEGIN:VEVENT
DTSTART;TZID=America/Toronto:20260115T093000
DTEND;TZID=America/Toronto:20260115T113000
DTSTAMP:20260421T113700
CREATED:20251216T192759Z
LAST-MODIFIED:20251216T192759Z
UID:10000089-1768469400-1768476600@mahf.ca
SUMMARY:Slime au Jell-o
DESCRIPTION:
URL:https://mahf.ca/event/slime-au-jell-o/
LOCATION:Maison d’aide et d’hébergement de Fermont\, 4 rue Holway\, Fermont\, QUEBEC\, G0G 1J0\, Canada
CATEGORIES:Activité enfant accompagné d'un adulte
END:VEVENT
BEGIN:VEVENT
DTSTART;TZID=America/Toronto:20260114T093000
DTEND;TZID=America/Toronto:20260114T113000
DTSTAMP:20260421T113700
CREATED:20251216T192330Z
LAST-MODIFIED:20251216T192330Z
UID:10000088-1768383000-1768390200@mahf.ca
SUMMARY:Attache fermeture éclaire
DESCRIPTION:
URL:https://mahf.ca/event/attache-fermeture-eclaire/
LOCATION:Maison d’aide et d’hébergement de Fermont\, 4 rue Holway\, Fermont\, QUEBEC\, G0G 1J0\, Canada
CATEGORIES:Activité pour tous
END:VEVENT
BEGIN:VEVENT
DTSTART;TZID=America/Toronto:20260113T093000
DTEND;TZID=America/Toronto:20260113T113000
DTSTAMP:20260421T113700
CREATED:20251216T192154Z
LAST-MODIFIED:20251216T192154Z
UID:10000087-1768296600-1768303800@mahf.ca
SUMMARY:Pizza pochette maison
DESCRIPTION:
URL:https://mahf.ca/event/pizza-pochette-maison/
LOCATION:Maison d’aide et d’hébergement de Fermont\, 4 rue Holway\, Fermont\, QUEBEC\, G0G 1J0\, Canada
CATEGORIES:Activité pour adulte seulement
END:VEVENT
BEGIN:VEVENT
DTSTART;TZID=America/Toronto:20260112T190000
DTEND;TZID=America/Toronto:20260228T123000
DTSTAMP:20260421T113700
CREATED:20260107T183159Z
LAST-MODIFIED:20260205T143702Z
UID:10000098-1768244400-1772281800@mahf.ca
SUMMARY:Cardio-vélo\, session hiver 2026
DESCRIPTION:La session d’hiver du cardio-vélo se déroulera du 12 janvier au 28 mars 2026
URL:https://mahf.ca/event/cardio-velo-session-hiver-2026/
LOCATION:Maison d’aide et d’hébergement de Fermont\, 4 rue Holway\, Fermont\, QUEBEC\, G0G 1J0\, Canada
END:VEVENT
BEGIN:VEVENT
DTSTART;TZID=America/Toronto:20260112T093000
DTEND;TZID=America/Toronto:20260112T113000
DTSTAMP:20260421T113700
CREATED:20251216T191919Z
LAST-MODIFIED:20251216T191919Z
UID:10000086-1768210200-1768217400@mahf.ca
SUMMARY:Création de personnages en mouvement
DESCRIPTION:
URL:https://mahf.ca/event/creation-de-personnages-en-mouvement/
LOCATION:Maison d’aide et d’hébergement de Fermont\, 4 rue Holway\, Fermont\, QUEBEC\, G0G 1J0\, Canada
CATEGORIES:Activité enfant accompagné d'un adulte
END:VEVENT
BEGIN:VEVENT
DTSTART;TZID=America/Toronto:20260108T093000
DTEND;TZID=America/Toronto:20260108T113000
DTSTAMP:20260421T113700
CREATED:20251216T191436Z
LAST-MODIFIED:20251216T191436Z
UID:10000085-1767864600-1767871800@mahf.ca
SUMMARY:Tempête dans un verre
DESCRIPTION:
URL:https://mahf.ca/event/tempete-dans-un-verre/
LOCATION:Maison d’aide et d’hébergement de Fermont\, 4 rue Holway\, Fermont\, QUEBEC\, G0G 1J0\, Canada
CATEGORIES:Activité pour tous
END:VEVENT
BEGIN:VEVENT
DTSTART;TZID=America/Toronto:20260107T093000
DTEND;TZID=America/Toronto:20260107T113000
DTSTAMP:20260421T113700
CREATED:20251216T191240Z
LAST-MODIFIED:20251216T191240Z
UID:10000084-1767778200-1767785400@mahf.ca
SUMMARY:Pastilles fondantes pour la douche
DESCRIPTION:
URL:https://mahf.ca/event/pastilles-fondantes-pour-la-douche/
LOCATION:Maison d’aide et d’hébergement de Fermont\, 4 rue Holway\, Fermont\, QUEBEC\, G0G 1J0\, Canada
CATEGORIES:Activité pour adulte seulement
END:VEVENT
BEGIN:VEVENT
DTSTART;TZID=America/Toronto:20260106T093000
DTEND;TZID=America/Toronto:20260106T113000
DTSTAMP:20260421T113700
CREATED:20251216T191041Z
LAST-MODIFIED:20251216T191041Z
UID:10000083-1767691800-1767699000@mahf.ca
SUMMARY:Peinture gonflable
DESCRIPTION:
URL:https://mahf.ca/event/peinture-gonflable/
LOCATION:Maison d’aide et d’hébergement de Fermont\, 4 rue Holway\, Fermont\, QUEBEC\, G0G 1J0\, Canada
CATEGORIES:Activité enfant accompagné d'un adulte
END:VEVENT
BEGIN:VEVENT
DTSTART;TZID=America/Toronto:20260105T093000
DTEND;TZID=America/Toronto:20260105T113000
DTSTAMP:20260421T113700
CREATED:20251216T190842Z
LAST-MODIFIED:20251216T190842Z
UID:10000082-1767605400-1767612600@mahf.ca
SUMMARY:Création hibou enneigé
DESCRIPTION:
URL:https://mahf.ca/event/creation-hibou-enneige/
LOCATION:Maison d’aide et d’hébergement de Fermont\, 4 rue Holway\, Fermont\, QUEBEC\, G0G 1J0\, Canada
CATEGORIES:Activité pour tous
END:VEVENT
BEGIN:VEVENT
DTSTART;TZID=America/Toronto:20260105T080000
DTEND;TZID=America/Toronto:20260108T170000
DTSTAMP:20260421T113700
CREATED:20251216T185100Z
LAST-MODIFIED:20251216T185100Z
UID:10000081-1767600000-1767891600@mahf.ca
SUMMARY:Sacs à collations
DESCRIPTION:
URL:https://mahf.ca/event/sacs-a-collations-2/
LOCATION:Maison d’aide et d’hébergement de Fermont\, 4 rue Holway\, Fermont\, QUEBEC\, G0G 1J0\, Canada
END:VEVENT
BEGIN:VEVENT
DTSTART;TZID=America/Toronto:20251219T100000
DTEND;TZID=America/Toronto:20251219T110000
DTSTAMP:20260421T113700
CREATED:20251126T161751Z
LAST-MODIFIED:20251126T161751Z
UID:10000076-1766138400-1766142000@mahf.ca
SUMMARY:Mini-explo en pyjamas
DESCRIPTION:Aucune inscription requise. Venez-nous rejoindre avec vos plus beaux pyjamas de Noël
URL:https://mahf.ca/event/mini-explo-en-pyjamas/
LOCATION:Maison d’aide et d’hébergement de Fermont\, 4 rue Holway\, Fermont\, QUEBEC\, G0G 1J0\, Canada
CATEGORIES:Activité enfant accompagné d'un adulte
END:VEVENT
BEGIN:VEVENT
DTSTART;TZID=America/Toronto:20251218T093000
DTEND;TZID=America/Toronto:20251218T113000
DTSTAMP:20260421T113700
CREATED:20251126T160214Z
LAST-MODIFIED:20251126T160214Z
UID:10000073-1766050200-1766057400@mahf.ca
SUMMARY:Bac sensoriel de fausse neige
DESCRIPTION:
URL:https://mahf.ca/event/bac-sensoriel-de-fausse-neige/
LOCATION:Maison d’aide et d’hébergement de Fermont\, 4 rue Holway\, Fermont\, QUEBEC\, G0G 1J0\, Canada
CATEGORIES:Activité enfant accompagné d'un adulte
END:VEVENT
BEGIN:VEVENT
DTSTART;TZID=America/Toronto:20251217T093000
DTEND;TZID=America/Toronto:20251217T113000
DTSTAMP:20260421T113700
CREATED:20251126T160024Z
LAST-MODIFIED:20251126T160024Z
UID:10000072-1765963800-1765971000@mahf.ca
SUMMARY:Chocolat chaud prêt à emporter
DESCRIPTION:
URL:https://mahf.ca/event/chocolat-chaud-pret-a-emporter/
LOCATION:Maison d’aide et d’hébergement de Fermont\, 4 rue Holway\, Fermont\, QUEBEC\, G0G 1J0\, Canada
CATEGORIES:Activité pour tous
END:VEVENT
BEGIN:VEVENT
DTSTART;TZID=America/Toronto:20251216T093000
DTEND;TZID=America/Toronto:20251216T113000
DTSTAMP:20260421T113700
CREATED:20251126T155345Z
LAST-MODIFIED:20251126T160428Z
UID:10000071-1765877400-1765884600@mahf.ca
SUMMARY:S'mores de Noël
DESCRIPTION:
URL:https://mahf.ca/event/smores-de-noel/
LOCATION:Maison d’aide et d’hébergement de Fermont\, 4 rue Holway\, Fermont\, QUEBEC\, G0G 1J0\, Canada
CATEGORIES:Activité pour tous
END:VEVENT
BEGIN:VEVENT
DTSTART;TZID=America/Toronto:20251215T093000
DTEND;TZID=America/Toronto:20251215T113000
DTSTAMP:20260421T113700
CREATED:20251126T155122Z
LAST-MODIFIED:20251126T160455Z
UID:10000070-1765791000-1765798200@mahf.ca
SUMMARY:Gommage au sucre à la canne de bonbon
DESCRIPTION:
URL:https://mahf.ca/event/gommage-au-sucre-a-la-canne-de-bonbon/
LOCATION:Maison d’aide et d’hébergement de Fermont\, 4 rue Holway\, Fermont\, QUEBEC\, G0G 1J0\, Canada
CATEGORIES:Activité pour adulte seulement
END:VEVENT
BEGIN:VEVENT
DTSTART;TZID=America/Toronto:20251212T093000
DTEND;TZID=America/Toronto:20251212T113000
DTSTAMP:20260421T113700
CREATED:20251126T154755Z
LAST-MODIFIED:20251126T160847Z
UID:10000069-1765531800-1765539000@mahf.ca
SUMMARY:Création de cartes à l'aquarelle
DESCRIPTION:
URL:https://mahf.ca/event/creation-de-cartes-a-laquarelle/
LOCATION:Maison d’aide et d’hébergement de Fermont\, 4 rue Holway\, Fermont\, QUEBEC\, G0G 1J0\, Canada
CATEGORIES:Activité pour tous
END:VEVENT
BEGIN:VEVENT
DTSTART;TZID=America/Toronto:20251211T113000
DTEND;TZID=America/Toronto:20251211T130000
DTSTAMP:20260421T113700
CREATED:20251126T154627Z
LAST-MODIFIED:20251208T194507Z
UID:10000068-1765452600-1765458000@mahf.ca
SUMMARY:Dîner de Noël au Chalet de services
DESCRIPTION:
URL:https://mahf.ca/event/diner-de-noel-au-chalet-de-services/
LOCATION:Maison d’aide et d’hébergement de Fermont\, 4 rue Holway\, Fermont\, QUEBEC\, G0G 1J0\, Canada
CATEGORIES:Activité pour tous
END:VEVENT
BEGIN:VEVENT
DTSTART;TZID=America/Toronto:20251209T190000
DTEND;TZID=America/Toronto:20251209T200000
DTSTAMP:20260421T113700
CREATED:20251126T175131Z
LAST-MODIFIED:20251126T175131Z
UID:10000077-1765306800-1765310400@mahf.ca
SUMMARY:Yoga au Chalet de service
DESCRIPTION:
URL:https://mahf.ca/event/yoga-au-chalet-de-service/
LOCATION:Maison d’aide et d’hébergement de Fermont\, 4 rue Holway\, Fermont\, QUEBEC\, G0G 1J0\, Canada
CATEGORIES:Activité pour adulte seulement
END:VEVENT
BEGIN:VEVENT
DTSTART;TZID=America/Toronto:20251209T093000
DTEND;TZID=America/Toronto:20251209T113000
DTSTAMP:20260421T113700
CREATED:20251126T154242Z
LAST-MODIFIED:20251203T135929Z
UID:10000067-1765272600-1765279800@mahf.ca
SUMMARY:Création de jumelles du Père Noël
DESCRIPTION:
URL:https://mahf.ca/event/creation-de-jumelles-du-pere-noel/
LOCATION:Maison d’aide et d’hébergement de Fermont\, 4 rue Holway\, Fermont\, QUEBEC\, G0G 1J0\, Canada
CATEGORIES:Activité enfant accompagné d'un adulte
END:VEVENT
BEGIN:VEVENT
DTSTART;TZID=America/Toronto:20251208T093000
DTEND;TZID=America/Toronto:20251208T113000
DTSTAMP:20260421T113700
CREATED:20251126T153822Z
LAST-MODIFIED:20251126T160646Z
UID:10000066-1765186200-1765193400@mahf.ca
SUMMARY:Ornement en macramé
DESCRIPTION:
URL:https://mahf.ca/event/ornement-en-macrame/
LOCATION:Maison d’aide et d’hébergement de Fermont\, 4 rue Holway\, Fermont\, QUEBEC\, G0G 1J0\, Canada
CATEGORIES:Activité pour adulte seulement
END:VEVENT
BEGIN:VEVENT
DTSTART;TZID=America/Toronto:20251208T090000
DTEND;TZID=America/Toronto:20251211T170000
DTSTAMP:20260421T113700
CREATED:20251208T151342Z
LAST-MODIFIED:20251208T151342Z
UID:10000079-1765184400-1765472400@mahf.ca
SUMMARY:Sac de collations Spécial Noël
DESCRIPTION:
URL:https://mahf.ca/event/sac-de-collations-special-noel/
LOCATION:Maison d’aide et d’hébergement de Fermont\, 4 rue Holway\, Fermont\, QUEBEC\, G0G 1J0\, Canada
END:VEVENT
END:VCALENDAR