BEGIN:VCALENDAR
VERSION:2.0
PRODID:-//Maison d’aide et d’Hébergement de Fermont - ECPv6.15.20//NONSGML v1.0//EN
CALSCALE:GREGORIAN
METHOD:PUBLISH
X-ORIGINAL-URL:https://mahf.ca
X-WR-CALDESC:Évènements pour Maison d’aide et d’Hébergement de Fermont
REFRESH-INTERVAL;VALUE=DURATION:PT1H
X-Robots-Tag:noindex
X-PUBLISHED-TTL:PT1H
BEGIN:VTIMEZONE
TZID:America/Toronto
BEGIN:DAYLIGHT
TZOFFSETFROM:-0500
TZOFFSETTO:-0400
TZNAME:EDT
DTSTART:20240310T070000
END:DAYLIGHT
BEGIN:STANDARD
TZOFFSETFROM:-0400
TZOFFSETTO:-0500
TZNAME:EST
DTSTART:20241103T060000
END:STANDARD
BEGIN:DAYLIGHT
TZOFFSETFROM:-0500
TZOFFSETTO:-0400
TZNAME:EDT
DTSTART:20250309T070000
END:DAYLIGHT
BEGIN:STANDARD
TZOFFSETFROM:-0400
TZOFFSETTO:-0500
TZNAME:EST
DTSTART:20251102T060000
END:STANDARD
BEGIN:DAYLIGHT
TZOFFSETFROM:-0500
TZOFFSETTO:-0400
TZNAME:EDT
DTSTART:20260308T070000
END:DAYLIGHT
BEGIN:STANDARD
TZOFFSETFROM:-0400
TZOFFSETTO:-0500
TZNAME:EST
DTSTART:20261101T060000
END:STANDARD
END:VTIMEZONE
BEGIN:VEVENT
DTSTART;TZID=America/Toronto:20251201T150000
DTEND;TZID=America/Toronto:20251204T170000
DTSTAMP:20260421T152046
CREATED:20251201T195816Z
LAST-MODIFIED:20251201T195816Z
UID:10000078-1764601200-1764867600@mahf.ca
SUMMARY:Sac à collations
DESCRIPTION:
URL:https://mahf.ca/event/sac-a-collations-3/
LOCATION:Maison d’aide et d’hébergement de Fermont\, 4 rue Holway\, Fermont\, QUEBEC\, G0G 1J0\, Canada
END:VEVENT
BEGIN:VEVENT
DTSTART;TZID=America/Toronto:20251201T093000
DTEND;TZID=America/Toronto:20251201T113000
DTSTAMP:20260421T152046
CREATED:20251126T150957Z
LAST-MODIFIED:20251126T151047Z
UID:10000062-1764581400-1764588600@mahf.ca
SUMMARY:Boule de neige sans eau
DESCRIPTION:
URL:https://mahf.ca/event/boule-de-neige-sans-eau/
LOCATION:Maison d’aide et d’hébergement de Fermont\, 4 rue Holway\, Fermont\, QUEBEC\, G0G 1J0\, Canada
CATEGORIES:Activité pour tous
END:VEVENT
BEGIN:VEVENT
DTSTART;TZID=America/Toronto:20251127T093000
DTEND;TZID=America/Toronto:20251127T113000
DTSTAMP:20260421T152046
CREATED:20251028T194317Z
LAST-MODIFIED:20251028T194317Z
UID:10000054-1764235800-1764243000@mahf.ca
SUMMARY:Bouteilles sensorielles
DESCRIPTION:
URL:https://mahf.ca/event/bouteilles-sensorielles/
LOCATION:Maison d’aide et d’hébergement de Fermont\, 4 rue Holway\, Fermont\, QUEBEC\, G0G 1J0\, Canada
CATEGORIES:Activité pour tous
END:VEVENT
BEGIN:VEVENT
DTSTART;TZID=America/Toronto:20251126T093000
DTEND;TZID=America/Toronto:20251126T113000
DTSTAMP:20260421T152046
CREATED:20251028T193830Z
LAST-MODIFIED:20251028T193830Z
UID:10000053-1764149400-1764156600@mahf.ca
SUMMARY:Bouchées de sushis à la banane
DESCRIPTION:
URL:https://mahf.ca/event/bouchees-de-sushis-a-la-banane/
LOCATION:Maison d’aide et d’hébergement de Fermont\, 4 rue Holway\, Fermont\, QUEBEC\, G0G 1J0\, Canada
CATEGORIES:Activité pour adulte seulement
END:VEVENT
BEGIN:VEVENT
DTSTART;TZID=America/Toronto:20251125T113000
DTEND;TZID=America/Toronto:20251125T130000
DTSTAMP:20260421T152046
CREATED:20251028T193503Z
LAST-MODIFIED:20251028T193602Z
UID:10000052-1764070200-1764075600@mahf.ca
SUMMARY:Dîner en blanc
DESCRIPTION:
URL:https://mahf.ca/event/diner-en-blanc/
LOCATION:Maison d’aide et d’hébergement de Fermont\, 4 rue Holway\, Fermont\, QUEBEC\, G0G 1J0\, Canada
CATEGORIES:Activité pour tous
END:VEVENT
BEGIN:VEVENT
DTSTART;TZID=America/Toronto:20251124T190000
DTEND;TZID=America/Toronto:20251124T200000
DTSTAMP:20260421T152046
CREATED:20251028T192520Z
LAST-MODIFIED:20251028T192520Z
UID:10000051-1764010800-1764014400@mahf.ca
SUMMARY:Yoga
DESCRIPTION:L’activité se déroule au Chalet de services. \nApportez votre tapis
URL:https://mahf.ca/event/yoga-3/
LOCATION:Maison d’aide et d’hébergement de Fermont\, 4 rue Holway\, Fermont\, QUEBEC\, G0G 1J0\, Canada
CATEGORIES:Activité pour adulte seulement
END:VEVENT
BEGIN:VEVENT
DTSTART;TZID=America/Toronto:20251124T093000
DTEND;TZID=America/Toronto:20251124T113000
DTSTAMP:20260421T152046
CREATED:20251029T132248Z
LAST-MODIFIED:20251029T132248Z
UID:10000055-1763976600-1763983800@mahf.ca
SUMMARY:Feuilles marbrées
DESCRIPTION:
URL:https://mahf.ca/event/feuilles-marbrees/
LOCATION:Maison d’aide et d’hébergement de Fermont\, 4 rue Holway\, Fermont\, QUEBEC\, G0G 1J0\, Canada
CATEGORIES:Activité enfant accompagné d'un adulte
END:VEVENT
BEGIN:VEVENT
DTSTART;TZID=America/Toronto:20251124T080000
DTEND;TZID=America/Toronto:20251128T170000
DTSTAMP:20260421T152046
CREATED:20251121T200900Z
LAST-MODIFIED:20251124T141133Z
UID:10000061-1763971200-1764349200@mahf.ca
SUMMARY:Sac à collations
DESCRIPTION:
URL:https://mahf.ca/event/sac-a-collations-2/
LOCATION:Maison d’aide et d’hébergement de Fermont\, 4 rue Holway\, Fermont\, QUEBEC\, G0G 1J0\, Canada
END:VEVENT
BEGIN:VEVENT
DTSTART;TZID=America/Toronto:20251120T093000
DTEND;TZID=America/Toronto:20251120T113000
DTSTAMP:20260421T152046
CREATED:20251028T191847Z
LAST-MODIFIED:20251028T191847Z
UID:10000049-1763631000-1763638200@mahf.ca
SUMMARY:Cake-pop au Nutella
DESCRIPTION:
URL:https://mahf.ca/event/cake-pop-au-nutella/
LOCATION:Maison d’aide et d’hébergement de Fermont\, 4 rue Holway\, Fermont\, QUEBEC\, G0G 1J0\, Canada
CATEGORIES:Activité pour tous
END:VEVENT
BEGIN:VEVENT
DTSTART;TZID=America/Toronto:20251118T190000
DTEND;TZID=America/Toronto:20251118T200000
DTSTAMP:20260421T152046
CREATED:20251028T192038Z
LAST-MODIFIED:20251028T192038Z
UID:10000050-1763492400-1763496000@mahf.ca
SUMMARY:Yoga
DESCRIPTION:L’activité se déroule au Chalet de service. \nApportez votre tapis.
URL:https://mahf.ca/event/yoga-2/
LOCATION:Maison d’aide et d’hébergement de Fermont\, 4 rue Holway\, Fermont\, QUEBEC\, G0G 1J0\, Canada
CATEGORIES:Activité pour adulte seulement
END:VEVENT
BEGIN:VEVENT
DTSTART;TZID=America/Toronto:20251118T093000
DTEND;TZID=America/Toronto:20251118T113000
DTSTAMP:20260421T152046
CREATED:20251028T191701Z
LAST-MODIFIED:20251028T191701Z
UID:10000048-1763458200-1763465400@mahf.ca
SUMMARY:Porte-clés en macramé
DESCRIPTION:
URL:https://mahf.ca/event/porte-cles-en-macrame/
LOCATION:Maison d’aide et d’hébergement de Fermont\, 4 rue Holway\, Fermont\, QUEBEC\, G0G 1J0\, Canada
CATEGORIES:Activité pour adulte seulement
END:VEVENT
BEGIN:VEVENT
DTSTART;TZID=America/Toronto:20251117T093000
DTEND;TZID=America/Toronto:20251117T113000
DTSTAMP:20260421T152046
CREATED:20251028T191209Z
LAST-MODIFIED:20251028T191209Z
UID:10000047-1763371800-1763379000@mahf.ca
SUMMARY:Boule de neige version automne
DESCRIPTION:
URL:https://mahf.ca/event/boule-de-neige-version-automne/
LOCATION:Maison d’aide et d’hébergement de Fermont\, 4 rue Holway\, Fermont\, QUEBEC\, G0G 1J0\, Canada
CATEGORIES:Activité pour tous
END:VEVENT
BEGIN:VEVENT
DTSTART;TZID=America/Toronto:20251117T080000
DTEND;TZID=America/Toronto:20251117T170000
DTSTAMP:20260421T152046
CREATED:20251117T141314Z
LAST-MODIFIED:20251117T141314Z
UID:10000059-1763366400-1763398800@mahf.ca
SUMMARY:Sacs à collations
DESCRIPTION:
URL:https://mahf.ca/event/sacs-a-collations/
LOCATION:Maison d’aide et d’hébergement de Fermont\, 4 rue Holway\, Fermont\, QUEBEC\, G0G 1J0\, Canada
END:VEVENT
BEGIN:VEVENT
DTSTART;TZID=America/Toronto:20251113T093000
DTEND;TZID=America/Toronto:20251113T113000
DTSTAMP:20260421T152046
CREATED:20251028T190010Z
LAST-MODIFIED:20251028T190954Z
UID:10000046-1763026200-1763033400@mahf.ca
SUMMARY:Bacs sensoriels d'automne
DESCRIPTION:
URL:https://mahf.ca/event/bacs-sensoriels-dautomne/
LOCATION:Maison d’aide et d’hébergement de Fermont\, 4 rue Holway\, Fermont\, QUEBEC\, G0G 1J0\, Canada
CATEGORIES:Activité enfant accompagné d'un adulte
END:VEVENT
BEGIN:VEVENT
DTSTART;TZID=America/Toronto:20251111T093000
DTEND;TZID=America/Toronto:20251111T113000
DTSTAMP:20260421T152046
CREATED:20251028T184433Z
LAST-MODIFIED:20251028T184433Z
UID:10000045-1762853400-1762860600@mahf.ca
SUMMARY:Méduse à perles
DESCRIPTION:
URL:https://mahf.ca/event/meduse-a-perles/
LOCATION:Maison d’aide et d’hébergement de Fermont\, 4 rue Holway\, Fermont\, QUEBEC\, G0G 1J0\, Canada
CATEGORIES:Activité enfant accompagné d'un adulte
END:VEVENT
BEGIN:VEVENT
DTSTART;TZID=America/Toronto:20251110T190000
DTEND;TZID=America/Toronto:20251110T200000
DTSTAMP:20260421T152046
CREATED:20251030T134731Z
LAST-MODIFIED:20251107T195841Z
UID:10000056-1762801200-1762804800@mahf.ca
SUMMARY:Cardio-vélo EXPRESS
DESCRIPTION:Session du 10 novembre au 1er décembre \nLes lundis de 19h à 19h45 \nEntraînement sur vélo seulement
URL:https://mahf.ca/event/cardio-velo-express/
LOCATION:Maison d’aide et d’hébergement de Fermont\, 4 rue Holway\, Fermont\, QUEBEC\, G0G 1J0\, Canada
CATEGORIES:Activité pour adulte seulement
END:VEVENT
BEGIN:VEVENT
DTSTART;TZID=America/Toronto:20251110T093000
DTEND;TZID=America/Toronto:20251110T113000
DTSTAMP:20260421T152046
CREATED:20251028T184104Z
LAST-MODIFIED:20251028T184514Z
UID:10000044-1762767000-1762774200@mahf.ca
SUMMARY:Peinture sur pot en terre cuite
DESCRIPTION:
URL:https://mahf.ca/event/peinture-sur-pot-en-terre-cuite/
LOCATION:Maison d’aide et d’hébergement de Fermont\, 4 rue Holway\, Fermont\, QUEBEC\, G0G 1J0\, Canada
CATEGORIES:Activité pour adulte seulement
END:VEVENT
BEGIN:VEVENT
DTSTART;TZID=America/Toronto:20251110T080000
DTEND;TZID=America/Toronto:20251113T170000
DTSTAMP:20260421T152046
CREATED:20251110T143709Z
LAST-MODIFIED:20251110T193538Z
UID:10000058-1762761600-1763053200@mahf.ca
SUMMARY:Sac à collations
DESCRIPTION:
URL:https://mahf.ca/event/sac-a-collations/
LOCATION:Maison d’aide et d’hébergement de Fermont\, 4 rue Holway\, Fermont\, QUEBEC\, G0G 1J0\, Canada
END:VEVENT
BEGIN:VEVENT
DTSTART;TZID=America/Toronto:20251106T093000
DTEND;TZID=America/Toronto:20251106T113000
DTSTAMP:20260421T152046
CREATED:20251028T183750Z
LAST-MODIFIED:20251028T183751Z
UID:10000043-1762421400-1762428600@mahf.ca
SUMMARY:Prêts pour la mijoteuse
DESCRIPTION:
URL:https://mahf.ca/event/prets-pour-la-mijoteuse/
LOCATION:Maison d’aide et d’hébergement de Fermont\, 4 rue Holway\, Fermont\, QUEBEC\, G0G 1J0\, Canada
CATEGORIES:Activité pour adulte seulement
END:VEVENT
BEGIN:VEVENT
DTSTART;TZID=America/Toronto:20251105T093000
DTEND;TZID=America/Toronto:20251105T113000
DTSTAMP:20260421T152046
CREATED:20251028T183438Z
LAST-MODIFIED:20251028T183438Z
UID:10000042-1762335000-1762342200@mahf.ca
SUMMARY:Art soufflé
DESCRIPTION:
URL:https://mahf.ca/event/art-souffle/
LOCATION:Maison d’aide et d’hébergement de Fermont\, 4 rue Holway\, Fermont\, QUEBEC\, G0G 1J0\, Canada
CATEGORIES:Activité enfant accompagné d'un adulte
END:VEVENT
BEGIN:VEVENT
DTSTART;TZID=America/Toronto:20251104T093000
DTEND;TZID=America/Toronto:20251104T113000
DTSTAMP:20260421T152046
CREATED:20251028T182643Z
LAST-MODIFIED:20251028T182643Z
UID:10000041-1762248600-1762255800@mahf.ca
SUMMARY:Peinture 4 saisons
DESCRIPTION:
URL:https://mahf.ca/event/peinture-4-saisons/
LOCATION:Maison d’aide et d’hébergement de Fermont\, 4 rue Holway\, Fermont\, QUEBEC\, G0G 1J0\, Canada
CATEGORIES:Activité pour tous
END:VEVENT
BEGIN:VEVENT
DTSTART;TZID=America/Toronto:20251103T090000
DTEND;TZID=America/Toronto:20251106T170000
DTSTAMP:20260421T152046
CREATED:20251103T140355Z
LAST-MODIFIED:20251103T142214Z
UID:10000057-1762160400-1762448400@mahf.ca
SUMMARY:Sac de collations
DESCRIPTION:
URL:https://mahf.ca/event/sac-de-collations-2/
LOCATION:Maison d’aide et d’hébergement de Fermont\, 4 rue Holway\, Fermont\, QUEBEC\, G0G 1J0\, Canada
END:VEVENT
BEGIN:VEVENT
DTSTART;TZID=America/Toronto:20251029T093000
DTEND;TZID=America/Toronto:20251029T110000
DTSTAMP:20260421T152046
CREATED:20250925T190006Z
LAST-MODIFIED:20250925T182023Z
UID:10000037-1761730200-1761735600@mahf.ca
SUMMARY:Création au sel coloré
DESCRIPTION:des motifs aux thèmes de l’automne et de l’Halloween en sel qui pourront être personnalisés selon vos goûts avec seulement du colorant!
URL:https://mahf.ca/event/creation-au-sel-colore/
LOCATION:Maison d’aide et d’hébergement de Fermont\, 4 rue Holway\, Fermont\, QUEBEC\, G0G 1J0\, Canada
CATEGORIES:Activité pour tous
END:VEVENT
BEGIN:VEVENT
DTSTART;TZID=America/Toronto:20251028T093000
DTEND;TZID=America/Toronto:20251028T110000
DTSTAMP:20260421T152046
CREATED:20250925T190051Z
LAST-MODIFIED:20250925T182044Z
UID:10000036-1761643800-1761649200@mahf.ca
SUMMARY:Bacs sensoriels dégueux
DESCRIPTION:Seras-tu assez courageux pour tester nos bacs sensoriels dégueux de l’Halloween?
URL:https://mahf.ca/event/bacs-sensoriels-degueux/
LOCATION:Maison d’aide et d’hébergement de Fermont\, 4 rue Holway\, Fermont\, QUEBEC\, G0G 1J0\, Canada
CATEGORIES:Activité enfant accompagné d'un adulte
END:VEVENT
BEGIN:VEVENT
DTSTART;TZID=America/Toronto:20251027T080000
DTEND;TZID=America/Toronto:20251028T210000
DTSTAMP:20260421T152046
CREATED:20251027T130438Z
LAST-MODIFIED:20251029T130315Z
UID:10000040-1761552000-1761685200@mahf.ca
SUMMARY:Sac de collation
DESCRIPTION:
URL:https://mahf.ca/event/sac-de-collation/
LOCATION:Maison d’aide et d’hébergement de Fermont\, 4 rue Holway\, Fermont\, QUEBEC\, G0G 1J0\, Canada
END:VEVENT
BEGIN:VEVENT
DTSTART;TZID=America/Toronto:20251023T093000
DTEND;TZID=America/Toronto:20251023T110000
DTSTAMP:20260421T152046
CREATED:20250925T190049Z
LAST-MODIFIED:20250925T181414Z
UID:10000035-1761211800-1761217200@mahf.ca
SUMMARY:Peinture à la main
DESCRIPTION:Avec ta petite main\, tu pourras créer de supers personnages d’Halloween!
URL:https://mahf.ca/event/peinture-a-la-main/
LOCATION:Maison d’aide et d’hébergement de Fermont\, 4 rue Holway\, Fermont\, QUEBEC\, G0G 1J0\, Canada
CATEGORIES:Activité enfant accompagné d'un adulte
END:VEVENT
BEGIN:VEVENT
DTSTART;TZID=America/Toronto:20251022T093000
DTEND;TZID=America/Toronto:20251022T113000
DTSTAMP:20260421T152046
CREATED:20250925T190037Z
LAST-MODIFIED:20250925T181119Z
UID:10000033-1761125400-1761132600@mahf.ca
SUMMARY:Peinture ton paillasson!
DESCRIPTION:*halte-garderie offerte sous réservation pendant l’activité* \nEnvie de créer une décoration aux couleurs de l’automne ou de l’halloween qui fera partie de votre décoration année après année? C’est à la MAHF que ça se passe!
URL:https://mahf.ca/event/peinture-ton-paillasson/
LOCATION:Maison d’aide et d’hébergement de Fermont\, 4 rue Holway\, Fermont\, QUEBEC\, G0G 1J0\, Canada
CATEGORIES:Activité pour adulte seulement
END:VEVENT
BEGIN:VEVENT
DTSTART;TZID=America/Toronto:20251021T093000
DTEND;TZID=America/Toronto:20251021T110000
DTSTAMP:20260421T152046
CREATED:20250925T190039Z
LAST-MODIFIED:20250930T180010Z
UID:10000032-1761039000-1761044400@mahf.ca
SUMMARY:Atelier gourmande et créative de citrouille
DESCRIPTION:Seul ou en famille\, venez décorer votre citrouille et y cuire ses graines!
URL:https://mahf.ca/event/atelier-gourmande-et-creative-de-citrouille/
LOCATION:Maison d’aide et d’hébergement de Fermont\, 4 rue Holway\, Fermont\, QUEBEC\, G0G 1J0\, Canada
CATEGORIES:Activité pour tous
END:VEVENT
BEGIN:VEVENT
DTSTART;TZID=America/Toronto:20251020T090000
DTEND;TZID=America/Toronto:20251022T210000
DTSTAMP:20260421T152046
CREATED:20251020T131622Z
LAST-MODIFIED:20251020T131622Z
UID:10000038-1760950800-1761166800@mahf.ca
SUMMARY:Sac de collations
DESCRIPTION:
URL:https://mahf.ca/event/sac-de-collations/
LOCATION:Maison d’aide et d’hébergement de Fermont\, 4 rue Holway\, Fermont\, QUEBEC\, G0G 1J0\, Canada
END:VEVENT
BEGIN:VEVENT
DTSTART;TZID=America/Toronto:20251016T093000
DTEND;TZID=America/Toronto:20251016T110000
DTSTAMP:20260421T152046
CREATED:20250925T190009Z
LAST-MODIFIED:20250925T175114Z
UID:10000031-1760607000-1760612400@mahf.ca
SUMMARY:Ta pancarte pour la marche mondiale des femmes 2025
DESCRIPTION:À l’occasion de la marche mondiale des femmes 2025 samedi le 18 octobre prochain\, nous faisons une activité afin de créer nos pancartes qui seront portées lors de la marche! Que vous participiez à la marche avec nous ou non\, venez afficher vos couleurs pour les femmes!
URL:https://mahf.ca/event/ta-pancarte-pour-la-marche-mondiale-des-femmes-2025/
LOCATION:Maison d’aide et d’hébergement de Fermont\, 4 rue Holway\, Fermont\, QUEBEC\, G0G 1J0\, Canada
CATEGORIES:Activité pour tous
END:VEVENT
END:VCALENDAR